BEGIN:VCALENDAR
VERSION:2.0
PRODID:-//Studierende für Christus Erfurt - ECPv6.15.20//NONSGML v1.0//EN
CALSCALE:GREGORIAN
METHOD:PUBLISH
X-WR-CALNAME:Studierende für Christus Erfurt
X-ORIGINAL-URL:https://sfc-erfurt.de
X-WR-CALDESC:Veranstaltungen für Studierende für Christus Erfurt
REFRESH-INTERVAL;VALUE=DURATION:PT1H
X-Robots-Tag:noindex
X-PUBLISHED-TTL:PT1H
BEGIN:VTIMEZONE
TZID:Europe/Berlin
BEGIN:DAYLIGHT
TZOFFSETFROM:+0100
TZOFFSETTO:+0200
TZNAME:CEST
DTSTART:20210328T010000
END:DAYLIGHT
BEGIN:STANDARD
TZOFFSETFROM:+0200
TZOFFSETTO:+0100
TZNAME:CET
DTSTART:20211031T010000
END:STANDARD
BEGIN:DAYLIGHT
TZOFFSETFROM:+0100
TZOFFSETTO:+0200
TZNAME:CEST
DTSTART:20220327T010000
END:DAYLIGHT
BEGIN:STANDARD
TZOFFSETFROM:+0200
TZOFFSETTO:+0100
TZNAME:CET
DTSTART:20221030T010000
END:STANDARD
BEGIN:DAYLIGHT
TZOFFSETFROM:+0100
TZOFFSETTO:+0200
TZNAME:CEST
DTSTART:20230326T010000
END:DAYLIGHT
BEGIN:STANDARD
TZOFFSETFROM:+0200
TZOFFSETTO:+0100
TZNAME:CET
DTSTART:20231029T010000
END:STANDARD
END:VTIMEZONE
BEGIN:VEVENT
DTSTART;TZID=Europe/Berlin:20221108T193000
DTEND;TZID=Europe/Berlin:20221108T210000
DTSTAMP:20260423T083404
CREATED:20221012T080332Z
LAST-MODIFIED:20221012T080543Z
UID:10000037-1667935800-1667941200@sfc-erfurt.de
SUMMARY:SfC Abend
DESCRIPTION:
URL:https://sfc-erfurt.de/event/sfc-abend/2022-11-08/
LOCATION:FeG Erfurt\, Heinrichstraße 102\, Erfurt\, 99092
END:VEVENT
END:VCALENDAR